BEGIN:VCALENDAR
VERSION:2.0
PRODID:-//Deutsch-Norwegische Freundschaftsgesellschaft e.V.//NONSGML kigkonsult.se iCalcreator 2.41.92//
CALSCALE:GREGORIAN
METHOD:PUBLISH
UID:34346666-6264-4636-b737-323237323635
X-WR-CALNAME:iCagenda
X-WR-CALDESC:Event Management Extension for Joomla!
X-WR-RELCALID:3E26604A-50F4-4449-8B3E-E4F4932D05B5
X-WR-TIMEZONE:Europe/Berlin
BEGIN:VTIMEZONE
TZID:Europe/Berlin
TZUNTIL:20271031T010000Z
BEGIN:STANDARD
TZNAME:CET
DTSTART:20251026T030000
TZOFFSETFROM:+0200
TZOFFSETTO:+0100
RDATE:20261025T030000
END:STANDARD
BEGIN:DAYLIGHT
TZNAME:CEST
DTSTART:20250330T020000
TZOFFSETFROM:+0100
TZOFFSETTO:+0200
RDATE:20260329T020000
RDATE:20270328T020000
END:DAYLIGHT
END:VTIMEZONE
BEGIN:VEVENT
UID:36386637-3864-4264-b233-393361303966
DTSTAMP:20260421T083639Z
CATEGORIES:Regionalgruppe Bremen-NwN
CLASS:PUBLIC
DESCRIPTION;ALTREP="CID:<FFFF__=0ABBE548DFE235B58f9e8a93d@coffeebean.com>":
 Quer durch Innlandet - auf historischen und kulturellen Spuren durch das n
 ördliche Südnorwegen\nVortrag von Gudrun Niemeyer
DTSTART:20260210T173000Z
DTEND:20260210T173000Z
GEO:+53.072952;+8.809242
LOCATION:Presseclub\, Schnoor 27\, 28195 Bremen
ORGANIZER;CN=:mailto:renate@von-rueden.org
SEQUENCE:1
SUMMARY:Quer durch Innlandet - auf historischen und kulturellen Spuren durc
 h das nördliche Südnorwegen
TRANSP:OPAQUE
URL:https://www.norwegenportal.de/component/icagenda/268-quer-durch-innland
 et-auf-historischen-und-kulturellen-spuren-durch-das-noerdliche-suednorweg
 en/2026-02-10-18-30
END:VEVENT
END:VCALENDAR
